BEGIN:VCALENDAR
VERSION:2.0
PRODID:-//Care 4 Needy Copts - ECPv6.15.20//NONSGML v1.0//EN
CALSCALE:GREGORIAN
METHOD:PUBLISH
X-WR-CALNAME:Care 4 Needy Copts
X-ORIGINAL-URL:http://13.219.195.144
X-WR-CALDESC:Events for Care 4 Needy Copts
REFRESH-INTERVAL;VALUE=DURATION:PT1H
X-Robots-Tag:noindex
X-PUBLISHED-TTL:PT1H
BEGIN:VTIMEZONE
TZID:UTC
BEGIN:STANDARD
TZOFFSETFROM:+0000
TZOFFSETTO:+0000
TZNAME:UTC
DTSTART:20230101T000000
END:STANDARD
END:VTIMEZONE
BEGIN:VEVENT
DTSTART;TZID=UTC:20240915T090000
DTEND;TZID=UTC:20240915T120000
DTSTAMP:20260425T120726
CREATED:20220914T145147Z
LAST-MODIFIED:20241126T182421Z
UID:23159-1726390800-1726401600@13.219.195.144
SUMMARY:International Missions Day\, VA
DESCRIPTION:Join Care 4 Needy Copts for a special event to support the Coptic community in Egypt!\nMeet the Care 4 Needy Copts team at STSA Church\, hosted by Fr. Anthony Messeh.\n\n\nInternational Missions Day:\n– Learn about C4NC mission\n– Support STSA Church’s mission to Luxor\, Egypt.
URL:http://13.219.195.144/event/current-event/
LOCATION:STSA Church\, 2640 Shirlington Road\, Arlington\, VA\, 22206\, United States
CATEGORIES:Awareness Event
ATTACH;FMTTYPE=image/webp:http://13.219.195.144/wp-content/uploads/2022/09/Care-4-Needy-Copts-At-STSA-Church-International-missions-day-event.webp
ORGANIZER;CN="Care 4 Needy Copts":MAILTO:info@care4needycopts.org
END:VEVENT
END:VCALENDAR