BEGIN:VCALENDAR
VERSION:2.0
PRODID:-//Care 4 Needy Copts - ECPv6.15.20//NONSGML v1.0//EN
CALSCALE:GREGORIAN
METHOD:PUBLISH
X-ORIGINAL-URL:http://13.219.195.144
X-WR-CALDESC:Events for Care 4 Needy Copts
REFRESH-INTERVAL;VALUE=DURATION:PT1H
X-Robots-Tag:noindex
X-PUBLISHED-TTL:PT1H
BEGIN:VTIMEZONE
TZID:UTC
BEGIN:STANDARD
TZOFFSETFROM:+0000
TZOFFSETTO:+0000
TZNAME:UTC
DTSTART:20240101T000000
END:STANDARD
END:VTIMEZONE
BEGIN:VEVENT
DTSTART;TZID=UTC:20250907T140000
DTEND;TZID=UTC:20250907T170000
DTSTAMP:20260424T183936
CREATED:20250626T182132Z
LAST-MODIFIED:20250711T183725Z
UID:35894-1757253600-1757264400@13.219.195.144
SUMMARY:Michigan Event 2025 | Together for a Cause
DESCRIPTION:You’re Invited: An Afternoon of Impact with Care 4 Needy Copts in Michigan\nJoin us for a special gathering in Troy\, Michigan\, to connect with the mission of Care 4 Needy Copts and discover the profound impact of our collective work in Egypt. \nThis is more than just an event; it’s an opportunity to be part of a community dedicated to transforming lives. Hear inspiring stories\, enjoy a wonderful afternoon with friends\, and learn how your support is bringing hope and tangible help to those who need it most. \nWe are excited to share an afternoon of fellowship and purpose with you. \nEvent Highlights:\n\nInsightful Presentation: Discover the powerful ways our service is changing lives in Egypt.\nDelicious Lunch: Enjoy a complimentary lunch as you connect with fellow supporters.\nExciting Raffles: Get a chance to win some wonderful prizes!\n\nCome\, be inspired\, and invite your friends to learn more about this vital mission. \nEvent Details\n\nDate: Sunday\, September 7\, 2025\nTime: 2:00 PM – 5:00 PM\nLocation: St. Nicholas Greek Orthodox Church760 West Wattles Road\, Troy\, MI 48098\n\nRSVP Today!\nYour presence will make a difference. Please let us know you’re coming by registering through our secure online form. \nRSVP Deadline: September 1st\, 2025 \nRegister Now! \nThank you for being a part of this mission. We can’t wait to see you there!
URL:http://13.219.195.144/event/michigan-event-2025/
LOCATION:St Nicholas Greek Orthodox Church\, 760 West Wattles Road\, Troy\, MI\, 48098\, United States
CATEGORIES:Awareness Event
ATTACH;FMTTYPE=image/webp:http://13.219.195.144/wp-content/uploads/2025/06/michigan-event-2025-care-4-needy-copts-1.webp
ORGANIZER;CN="Care 4 Needy Copts":MAILTO:info@care4needycopts.org
END:VEVENT
END:VCALENDAR